BEGIN:VCALENDAR
VERSION:2.0
PRODID:-//Brahma Kumaris Rajahmundry - ECPv4.9.3.2//NONSGML v1.0//EN
CALSCALE:GREGORIAN
METHOD:PUBLISH
X-WR-CALNAME:Brahma Kumaris Rajahmundry
X-ORIGINAL-URL:https://rajahmundry.bk.ooo
X-WR-CALDESC:Events for Brahma Kumaris Rajahmundry
BEGIN:VEVENT
DTSTART;TZID=UTC+0:20190616T083000
DTEND;TZID=UTC+0:20190616T103000
DTSTAMP:20260425T112829
CREATED:20190611T094601Z
LAST-MODIFIED:20190611T094601Z
UID:74-1560673800-1560681000@rajahmundry.bk.ooo
SUMMARY:God of God's Film release on 16th June 2019 in RJY AP
DESCRIPTION: \n
URL:https://rajahmundry.bk.ooo/event/god-of-gods-film-release-on-16th-june-2019-in-rjy-ap/
LOCATION:Sai Krishna Theater\, Mangalavaripet\, Rajahmundry\, AP\, 533101\, India
ORGANIZER;CN="BK%20Hema":MAILTO:rajahmundry@bkivv.org
END:VEVENT
END:VCALENDAR